BEGIN:VCALENDAR
VERSION:2.0
PRODID:-//Evangelical Brotherhood Church - ECPv5.8.1//NONSGML v1.0//EN
CALSCALE:GREGORIAN
METHOD:PUBLISH
X-WR-CALNAME:Evangelical Brotherhood Church
X-ORIGINAL-URL:https://ebc.org.pg
X-WR-CALDESC:Events for Evangelical Brotherhood Church
BEGIN:VTIMEZONE
TZID:UTC
BEGIN:STANDARD
TZOFFSETFROM:+0000
TZOFFSETTO:+0000
TZNAME:UTC
DTSTART:20190101T000000
END:STANDARD
END:VTIMEZONE
BEGIN:VEVENT
DTSTART;VALUE=DATE:20190823
DTEND;VALUE=DATE:20190826
DTSTAMP:20210812T180252
CREATED:20190715T054537Z
LAST-MODIFIED:20190715T054630Z
UID:3918-1566518400-1566777599@ebc.org.pg
SUMMARY:EHP Convention
DESCRIPTION:
URL:https://ebc.org.pg/event/ehp-convention/
LOCATION:Yauna\, Kainantu\, Eastern Highlands Province\, Papua New Guinea
END:VEVENT
END:VCALENDAR